BEGIN:VCALENDAR
VERSION:2.0
PRODID:SchoolNow
CALSCALE:GREGORIAN
BEGIN:VEVENT
UID:fe31cd9c-a8cc-11e9-b2e6-1258ee0f9256
DTSTAMP:20190808T153434Z
SUMMARY:South Hampton School Board Meeting
DESCRIPTION:At Barnard School
URL;VALUE=URI:https://www.sau21.nh.gov/calendar/2033143/south-hampton-schoo
 l-board-meeting
DTSTART:20190808T203000Z
DTEND:20190808T220000Z
END:VEVENT
END:VCALENDAR
