BEGIN:VCALENDAR
VERSION:2.0
PRODID:SchoolNow
CALSCALE:GREGORIAN
BEGIN:VEVENT
UID:3c286ed0-a8cd-11e9-9757-0ae4a448684a
DTSTAMP:20190808T153403Z
SUMMARY:North Hampton School Board Meeting - Postponed
DESCRIPTION:North Hampton Music Room
URL;VALUE=URI:https://www.sau21.nh.gov/calendar/2033144/north-hampton-schoo
 l-board-meeting
DTSTART:20190808T223000Z
DTEND:20190809T000000Z
END:VEVENT
END:VCALENDAR
