BEGIN:VCALENDAR
VERSION:2.0
PRODID:SchoolNow
CALSCALE:GREGORIAN
BEGIN:VEVENT
UID:d3faf144-b9f1-11e9-9246-129dbbb551bc
DTSTAMP:20190808T153319Z
SUMMARY:Seabrook School Board Meeting
URL;VALUE=URI:https://www.sau21.nh.gov/calendar/2052703/seabrook-school-boa
 rd-meeting
DTSTART:20190813T203000Z
DTEND:20190813T220000Z
END:VEVENT
END:VCALENDAR
