BEGIN:VCALENDAR
VERSION:2.0
PRODID:SchoolNow
CALSCALE:GREGORIAN
BEGIN:VEVENT
UID:271e1590-b9f2-11e9-81b9-129dbbb551bc
DTSTAMP:20190808T153530Z
SUMMARY:Hampton Falls School Board Meeting
URL;VALUE=URI:https://www.sau21.nh.gov/calendar/2052705/hampton-falls-schoo
 l-board-meeting
DTSTART:20190813T223000Z
DTEND:20190814T000000Z
END:VEVENT
END:VCALENDAR
