BEGIN:VCALENDAR
VERSION:2.0
PRODID:SchoolNow
CALSCALE:GREGORIAN
BEGIN:VEVENT
UID:c46208de-c8ca-11e9-b870-12499a779b18
DTSTAMP:20190830T140858Z
SUMMARY:North Hampton School Board Meeting
LOCATION:North Hampton School
URL;VALUE=URI:https://www.sau21.nh.gov/calendar/2074290/north-hampton-schoo
 l-board-meeting
DTSTART:20190905T223000Z
DTEND:20190906T000000Z
END:VEVENT
END:VCALENDAR
