BEGIN:VCALENDAR
VERSION:2.0
PRODID:SchoolNow
CALSCALE:GREGORIAN
BEGIN:VEVENT
UID:df65f6f8-c8cb-11e9-ac7b-12499a779b18
DTSTAMP:20190830T155021Z
SUMMARY:South Hampton School Board Meeting
LOCATION:Barnard School
URL;VALUE=URI:https://www.sau21.nh.gov/calendar/2074291/south-hampton-schoo
 l-board-meeting
DTSTART:20190905T203000Z
DTEND:20190905T213000Z
END:VEVENT
END:VCALENDAR
