BEGIN:VCALENDAR
VERSION:2.0
PRODID:SchoolNow
CALSCALE:GREGORIAN
BEGIN:VEVENT
UID:64115a0c-c8cf-11e9-9120-12d52dd27ee6
DTSTAMP:20190827T133427Z
SUMMARY:Seabrook School Board Meeting
LOCATION:Seabrook Middle School
URL;VALUE=URI:https://www.sau21.nh.gov/calendar/2074292/seabrook-school-boa
 rd-meeting
DTSTART:20190910T203000Z
DTEND:20190910T220000Z
END:VEVENT
END:VCALENDAR
