BEGIN:VCALENDAR
VERSION:2.0
PRODID:SchoolNow
CALSCALE:GREGORIAN
BEGIN:VEVENT
UID:0922593c-cff2-11e9-bb13-12e032ef7e7e
DTSTAMP:20190905T153005Z
SUMMARY:Hampton Falls School Board Meeting
URL;VALUE=URI:https://www.sau21.nh.gov/calendar/2083602/hampton-falls-schoo
 l-board-meeting
DTSTART:20190910T223000Z
DTEND:20190910T233000Z
ATTACH;FILENAME=hf-2019-09-10-agenda.pdf;FMTTYPE=application/pdf:https://ca
 mpussuite-storage.s3.amazonaws.com/prod/1558718/e7fa12dc-6862-11e9-88e9-0a
 2901a6873e/1977362/d5693f48-cfe2-11e9-b838-127481c6efe6/file/hf-2019-09-10
 -agenda.pdf
END:VEVENT
END:VCALENDAR
