BEGIN:VCALENDAR
VERSION:2.0
PRODID:SchoolNow
CALSCALE:GREGORIAN
BEGIN:VEVENT
UID:380278e0-cff2-11e9-9f39-12e032ef7e7e
DTSTAMP:20190913T204700Z
SUMMARY:Winnacunnet School Board Meeeting
URL;VALUE=URI:https://www.sau21.nh.gov/calendar/2083603/winnacunnet-school-
 board-meeeting
DTSTART:20190918T223000Z
DTEND:20190918T233000Z
ATTACH;FILENAME=w-2019-09-16-agenda.pdf;FMTTYPE=application/pdf:https://cam
 pussuite-storage.s3.amazonaws.com/prod/1558718/e7fa12dc-6862-11e9-88e9-0a2
 901a6873e/1983431/8fd11286-d667-11e9-a5ca-129d5302f79e/file/w-2019-09-16-a
 genda.pdf
END:VEVENT
END:VCALENDAR
