BEGIN:VCALENDAR
VERSION:2.0
PRODID:SchoolNow
CALSCALE:GREGORIAN
BEGIN:VEVENT
UID:53fd5a9c-cff2-11e9-9f3f-12e032ef7e7e
DTSTAMP:20190905T153210Z
SUMMARY:South Hampton School Board Meeting
URL;VALUE=URI:https://www.sau21.nh.gov/calendar/2083604/south-hampton-schoo
 l-board-meeting
DTSTART:20191003T203000Z
DTEND:20191003T213100Z
END:VEVENT
END:VCALENDAR
