BEGIN:VCALENDAR
VERSION:2.0
PRODID:SchoolNow
CALSCALE:GREGORIAN
BEGIN:VEVENT
UID:731c1648-cff2-11e9-ba6d-12e032ef7e7e
DTSTAMP:20191102T152819Z
SUMMARY:South Hampton School Board Meeting
URL;VALUE=URI:https://www.sau21.nh.gov/calendar/2083605/south-hampton-schoo
 l-board-meeting
DTSTART:20191107T213000Z
DTEND:20191107T223000Z
ATTACH;FILENAME=sh-2019-11-07-agenda.pdf;FMTTYPE=application/pdf:https://ca
 mpussuite-storage.s3.amazonaws.com/prod/1558718/e7fa12dc-6862-11e9-88e9-0a
 2901a6873e/2009641/eb91b6f4-fd84-11e9-8cf5-12f6ac83a1e4/file/sh-2019-11-07
 -agenda.pdf
END:VEVENT
END:VCALENDAR
