BEGIN:VCALENDAR
VERSION:2.0
PRODID:SchoolNow
CALSCALE:GREGORIAN
BEGIN:VEVENT
UID:9d704a18-cff2-11e9-aff9-12e032ef7e7e
DTSTAMP:20191202T140941Z
SUMMARY:South Hampton School Board Meeting
URL;VALUE=URI:https://www.sau21.nh.gov/calendar/2083606/south-hampton-schoo
 l-board-meeting
DTSTART:20191205T213000Z
DTEND:20191205T223000Z
ATTACH;FILENAME=SH-2019-12-05-agenda.pdf;FMTTYPE=application/pdf:https://ca
 mpussuite-storage.s3.amazonaws.com/prod/1558718/e7fa12dc-6862-11e9-88e9-0a
 2901a6873e/2021601/5d396ee2-150d-11ea-8da1-120881f27dc9/file/SH-2019-12-05
 -agenda.pdf
END:VEVENT
END:VCALENDAR
