BEGIN:VCALENDAR
VERSION:2.0
PRODID:SchoolNow
CALSCALE:GREGORIAN
BEGIN:VEVENT
UID:b1414c90-cff2-11e9-bb99-12e032ef7e7e
DTSTAMP:20200102T205259Z
SUMMARY:South Hampton School Board Meeting
URL;VALUE=URI:https://www.sau21.nh.gov/calendar/2083607/south-hampton-schoo
 l-board-meeting
DTSTART:20200109T213000Z
DTEND:20200109T223000Z
ATTACH;FILENAME=2020-1-9 SH Agenda.pdf;FMTTYPE=application/pdf:https://camp
 ussuite-storage.s3.amazonaws.com/prod/1558718/e7fa12dc-6862-11e9-88e9-0a29
 01a6873e/2031635/04376efa-2da1-11ea-ac1a-12f287b159d7/file/2020-1-9 SH Age
 nda.pdf
END:VEVENT
END:VCALENDAR
