BEGIN:VCALENDAR
VERSION:2.0
PRODID:SchoolNow
CALSCALE:GREGORIAN
BEGIN:VEVENT
UID:c8c396de-cff2-11e9-8ed3-12e032ef7e7e
DTSTAMP:20200129T155242Z
SUMMARY:South Hampton School Board Meeting - Note Date Change
LOCATION:Barnard School
URL;VALUE=URI:https://www.sau21.nh.gov/calendar/2083608/south-hampton-schoo
 l-board-meeting
DTSTART:20200204T223000Z
DTEND:20200205T000000Z
ATTACH;FILENAME=2020-2-4 SH Agenda.pdf;FMTTYPE=application/pdf:https://camp
 ussuite-storage.s3.amazonaws.com/prod/1558718/e7fa12dc-6862-11e9-88e9-0a29
 01a6873e/2044792/4d039226-42af-11ea-bc16-12997d1f5571/file/2020-2-4 SH Age
 nda.pdf
END:VEVENT
END:VCALENDAR
