BEGIN:VCALENDAR
VERSION:2.0
PRODID:SchoolNow
CALSCALE:GREGORIAN
BEGIN:VEVENT
UID:f15fb3b0-cff3-11e9-8146-0a6a6fedc862
DTSTAMP:20190905T154344Z
SUMMARY:North Hampton School Board Meeting
URL;VALUE=URI:https://www.sau21.nh.gov/calendar/2083616/north-hampton-schoo
 l-board-meeting
DTSTART:20191003T223000Z
DTEND:20191003T233000Z
END:VEVENT
END:VCALENDAR
