BEGIN:VCALENDAR
VERSION:2.0
PRODID:SchoolNow
CALSCALE:GREGORIAN
BEGIN:VEVENT
UID:08833f08-cff4-11e9-a4b8-0a6a6fedc862
DTSTAMP:20191102T152945Z
SUMMARY:North Hampton School Board Meeting
URL;VALUE=URI:https://www.sau21.nh.gov/calendar/2083618/north-hampton-schoo
 l-board-meeting
DTSTART:20191107T233000Z
DTEND:20191108T003000Z
ATTACH;FILENAME=nh-2019-11-07-agenda.pdf;FMTTYPE=application/pdf:https://ca
 mpussuite-storage.s3.amazonaws.com/prod/1558718/e7fa12dc-6862-11e9-88e9-0a
 2901a6873e/2009640/c16826c4-fd84-11e9-96bd-12f6ac83a1e4/file/nh-2019-11-07
 -agenda.pdf
END:VEVENT
END:VCALENDAR
