BEGIN:VCALENDAR
VERSION:2.0
PRODID:SchoolNow
CALSCALE:GREGORIAN
BEGIN:VEVENT
UID:2834580a-cff4-11e9-99bb-0a6a6fedc862
DTSTAMP:20191202T141045Z
SUMMARY:North Hampton School Board Meeting
URL;VALUE=URI:https://www.sau21.nh.gov/calendar/2083620/north-hampton-schoo
 l-board-meeting
DTSTART:20191205T233000Z
DTEND:20191206T003000Z
ATTACH;FILENAME=NH-2019-12-05-agenda.pdf;FMTTYPE=application/pdf:https://ca
 mpussuite-storage.s3.amazonaws.com/prod/1558718/e7fa12dc-6862-11e9-88e9-0a
 2901a6873e/2021602/81879b98-150d-11ea-b1e0-120881f27dc9/file/NH-2019-12-05
 -agenda.pdf
END:VEVENT
END:VCALENDAR
