BEGIN:VCALENDAR
VERSION:2.0
PRODID:SchoolNow
CALSCALE:GREGORIAN
BEGIN:VEVENT
UID:3de2367c-cff4-11e9-9913-0a6a6fedc862
DTSTAMP:20200102T201636Z
SUMMARY:North Hampton School Board Meeting
URL;VALUE=URI:https://www.sau21.nh.gov/calendar/2083623/north-hampton-schoo
 l-board-meeting
DTSTART:20200108T233000Z
DTEND:20200109T003000Z
ATTACH;FILENAME=2020-1-8 NH Agenda.pdf;FMTTYPE=application/pdf:https://camp
 ussuite-storage.s3.amazonaws.com/prod/1558718/e7fa12dc-6862-11e9-88e9-0a29
 01a6873e/2031626/b5a1ce4c-2d9c-11ea-9275-0ab8d8dc94b5/file/2020-1-8 NH Age
 nda.pdf
END:VEVENT
END:VCALENDAR
