BEGIN:VCALENDAR
VERSION:2.0
PRODID:SchoolNow
CALSCALE:GREGORIAN
BEGIN:VEVENT
UID:6c9dad20-cff4-11e9-90e1-0a6a6fedc862
DTSTAMP:20200209T235122Z
SUMMARY:North Hampton School Board Meeting - Note Date Change
URL;VALUE=URI:https://www.sau21.nh.gov/calendar/2083624/north-hampton-schoo
 l-board-meeting
DTSTART:20200213T233000Z
DTEND:20200214T010000Z
ATTACH;FILENAME=2020-2-13 NH Agenda.pdf;FMTTYPE=application/pdf:https://cam
 pussuite-storage.s3.amazonaws.com/prod/1558718/e7fa12dc-6862-11e9-88e9-0a2
 901a6873e/2049280/6b32b0c2-4b94-11ea-bb33-0acb4572fd4f/file/2020-2-13 NH A
 genda.pdf
END:VEVENT
END:VCALENDAR
