BEGIN:VCALENDAR
VERSION:2.0
PRODID:SchoolNow
CALSCALE:GREGORIAN
BEGIN:VEVENT
UID:3d8bcbb2-d011-11e9-98f7-0a75e43a450a
DTSTAMP:20191004T124431Z
SUMMARY:Seabrook School Board Meeting
URL;VALUE=URI:https://www.sau21.nh.gov/calendar/2084232/seabrook-school-boa
 rd-meeting
DTSTART:20191008T203000Z
DTEND:20191008T213000Z
ATTACH;FILENAME=s-2019-10-08-agenda.pdf;FMTTYPE=application/pdf:https://cam
 pussuite-storage.s3.amazonaws.com/prod/1558718/e7fa12dc-6862-11e9-88e9-0a2
 901a6873e/1993716/5ee5d448-e6a4-11e9-b26d-1231a296bbb6/file/s-2019-10-08-a
 genda.pdf
END:VEVENT
END:VCALENDAR
