BEGIN:VCALENDAR
VERSION:2.0
PRODID:SchoolNow
CALSCALE:GREGORIAN
BEGIN:VEVENT
UID:57d3a9d6-d011-11e9-9279-0a75e43a450a
DTSTAMP:20191107T213645Z
SUMMARY:Seabrook School Board Meeting
URL;VALUE=URI:https://www.sau21.nh.gov/calendar/2084233/seabrook-school-boa
 rd-meeting
DTSTART:20191112T213000Z
DTEND:20191112T223000Z
ATTACH;FILENAME=s-2019-11-12-agenda.pdf;FMTTYPE=application/pdf:https://cam
 pussuite-storage.s3.amazonaws.com/prod/1558718/e7fa12dc-6862-11e9-88e9-0a2
 901a6873e/2013386/ac5663ce-01a6-11ea-9509-12e771b4a5e5/file/s-2019-11-12-a
 genda.pdf
END:VEVENT
END:VCALENDAR
