BEGIN:VCALENDAR
VERSION:2.0
PRODID:SchoolNow
CALSCALE:GREGORIAN
BEGIN:VEVENT
UID:6c993c46-d011-11e9-a7ad-0a75e43a450a
DTSTAMP:20191206T212349Z
SUMMARY:Seabrook School Board Meeting
URL;VALUE=URI:https://www.sau21.nh.gov/calendar/2084234/seabrook-school-boa
 rd-meeting
DTSTART:20191210T213000Z
DTEND:20191210T223000Z
ATTACH;FILENAME=s-2019-12-10-agenda.pdf;FMTTYPE=application/pdf:https://cam
 pussuite-storage.s3.amazonaws.com/prod/1558718/e7fa12dc-6862-11e9-88e9-0a2
 901a6873e/2023673/99622a6c-186e-11ea-b01c-12d98c700dcb/file/s-2019-12-10-a
 genda.pdf
END:VEVENT
END:VCALENDAR
