BEGIN:VCALENDAR
VERSION:2.0
PRODID:SchoolNow
CALSCALE:GREGORIAN
BEGIN:VEVENT
UID:ecd7454c-d011-11e9-832a-0a75e43a450a
DTSTAMP:20200109T203051Z
SUMMARY:Seabrook School Board Meeting
URL;VALUE=URI:https://www.sau21.nh.gov/calendar/2084235/seabrook-school-boa
 rd-meeting
DTSTART:20200114T213000Z
DTEND:20200114T223000Z
ATTACH;FILENAME=2020-1-14 Seabrook Agenda.pdf;FMTTYPE=application/pdf:https
 ://campussuite-storage.s3.amazonaws.com/prod/1558718/e7fa12dc-6862-11e9-88
 e9-0a2901a6873e/2034198/e766d12a-331e-11ea-865a-12780d46bf6f/file/2020-1-1
 4 Seabrook Agenda.pdf
END:VEVENT
END:VCALENDAR
