BEGIN:VCALENDAR
VERSION:2.0
PRODID:SchoolNow
CALSCALE:GREGORIAN
BEGIN:VEVENT
UID:4efbaa42-d012-11e9-981a-0a75e43a450a
DTSTAMP:20190905T192106Z
SUMMARY:Seabrook School Board Meeting
URL;VALUE=URI:https://www.sau21.nh.gov/calendar/2084240/seabrook-school-boa
 rd-meeting
DTSTART:20190905T203000Z
DTEND:20190905T213000Z
END:VEVENT
END:VCALENDAR
