BEGIN:VCALENDAR
VERSION:2.0
PRODID:SchoolNow
CALSCALE:GREGORIAN
BEGIN:VEVENT
UID:3944dca2-d015-11e9-b1d5-0a75e43a450a
DTSTAMP:20191004T124344Z
SUMMARY:Hampton Falls School Board Meeting
URL;VALUE=URI:https://www.sau21.nh.gov/calendar/2084266/hampton-falls-schoo
 l-board-meeting
DTSTART:20191008T223000Z
DTEND:20191008T233000Z
ATTACH;FILENAME=hf-2019-10-08-agenda.pdf;FMTTYPE=application/pdf:https://ca
 mpussuite-storage.s3.amazonaws.com/prod/1558718/e7fa12dc-6862-11e9-88e9-0a
 2901a6873e/1993715/29431de6-e6a4-11e9-9cbd-1231a296bbb6/file/hf-2019-10-08
 -agenda.pdf
END:VEVENT
END:VCALENDAR
