BEGIN:VCALENDAR
VERSION:2.0
PRODID:SchoolNow
CALSCALE:GREGORIAN
BEGIN:VEVENT
UID:5266715a-d015-11e9-8459-0a75e43a450a
DTSTAMP:20191107T213723Z
SUMMARY:Hampton Falls School Board Meeting
URL;VALUE=URI:https://www.sau21.nh.gov/calendar/2084267/hampton-falls-schoo
 l-board-meeting
DTSTART:20191112T233000Z
DTEND:20191113T003000Z
ATTACH;FILENAME=hf-2019-11-12-agenda.pdf;FMTTYPE=application/pdf:https://ca
 mpussuite-storage.s3.amazonaws.com/prod/1558718/e7fa12dc-6862-11e9-88e9-0a
 2901a6873e/2013389/c4515ede-01a6-11ea-ba51-12e771b4a5e5/file/hf-2019-11-12
 -agenda.pdf
END:VEVENT
END:VCALENDAR
