BEGIN:VCALENDAR
VERSION:2.0
PRODID:SchoolNow
CALSCALE:GREGORIAN
BEGIN:VEVENT
UID:e716ab08-d0b5-11e9-88f2-0aa5f37327e6
DTSTAMP:20191210T230641Z
SUMMARY:Hampton Falls School Board Meeting
URL;VALUE=URI:https://www.sau21.nh.gov/calendar/2085396/hampton-falls-schoo
 l-board-meeting
DTSTART:20191210T233000Z
DTEND:20191211T003000Z
ATTACH;FILENAME=hf-2019-12-10-agenda.pdf;FMTTYPE=application/pdf:https://ca
 mpussuite-storage.s3.amazonaws.com/prod/1558718/e7fa12dc-6862-11e9-88e9-0a
 2901a6873e/2023671/3f80dda4-186e-11ea-980d-12d98c700dcb/file/hf-2019-12-10
 -agenda.pdf
END:VEVENT
END:VCALENDAR
