BEGIN:VCALENDAR
VERSION:2.0
PRODID:SchoolNow
CALSCALE:GREGORIAN
BEGIN:VEVENT
UID:003fc466-d0b6-11e9-ae2a-0aa5f37327e6
DTSTAMP:20200109T200814Z
SUMMARY:Hampton Falls School Board Meeting
URL;VALUE=URI:https://www.sau21.nh.gov/calendar/2085397/hampton-falls-schoo
 l-board-meeting
DTSTART:20200114T230000Z
DTEND:20200115T000000Z
ATTACH;FILENAME=2020-1-14 HF Agenda.pdf;FMTTYPE=application/pdf:https://cam
 pussuite-storage.s3.amazonaws.com/prod/1558718/e7fa12dc-6862-11e9-88e9-0a2
 901a6873e/2034188/bbf5a7ee-331b-11ea-b36f-12ec321980d5/file/2020-1-14 HF A
 genda.pdf
END:VEVENT
END:VCALENDAR
