BEGIN:VCALENDAR
VERSION:2.0
PRODID:SchoolNow
CALSCALE:GREGORIAN
BEGIN:VEVENT
UID:2ce78152-d0b6-11e9-b561-1231429c00ac
DTSTAMP:20200130T195538Z
SUMMARY:Hampton Falls School Board Meeting
URL;VALUE=URI:https://www.sau21.nh.gov/calendar/2085398/hampton-falls-schoo
 l-board-meeting
DTSTART:20200205T223000Z
DTEND:20200206T000000Z
ATTACH;FILENAME=2020-2-5 HF Agenda.pdf;FMTTYPE=application/pdf:https://camp
 ussuite-storage.s3.amazonaws.com/prod/1558718/e7fa12dc-6862-11e9-88e9-0a29
 01a6873e/2045492/73139f2e-439a-11ea-9e42-0abc80d3244b/file/2020-2-5 HF Age
 nda.pdf
END:VEVENT
END:VCALENDAR
