BEGIN:VCALENDAR
VERSION:2.0
PRODID:SchoolNow
CALSCALE:GREGORIAN
BEGIN:VEVENT
UID:59cdfa8e-d0b6-11e9-9b5c-1231429c00ac
DTSTAMP:20200409T184810Z
SUMMARY:Hampton Falls School Board Meeting
URL;VALUE=URI:https://www.sau21.nh.gov/calendar/2085400/hampton-falls-schoo
 l-board-meeting
DTSTART:20200414T223000Z
DTEND:20200414T233000Z
ATTACH;FILENAME=hf-2020-04-14-agenda.pdf;FMTTYPE=application/pdf:https://ca
 mpussuite-storage.s3.amazonaws.com/prod/1558718/e7fa12dc-6862-11e9-88e9-0a
 2901a6873e/2080195/10ad292c-7a90-11ea-9485-12ab520466bd/file/hf-2020-04-14
 -agenda.pdf
END:VEVENT
END:VCALENDAR
