BEGIN:VCALENDAR
VERSION:2.0
PRODID:SchoolNow
CALSCALE:GREGORIAN
BEGIN:VEVENT
UID:6bcd1eec-d0d2-11e9-9f54-0a946f7031a2
DTSTAMP:20191011T160527Z
SUMMARY:Winnacunnet School Board Meeting
URL;VALUE=URI:https://www.sau21.nh.gov/calendar/2085637/winnacunnet-school-
 board-meeting
DTSTART:20191016T223000Z
DTEND:20191016T233000Z
ATTACH;FILENAME=w-2019-10-16-agenda.pdf;FMTTYPE=application/pdf:https://cam
 pussuite-storage.s3.amazonaws.com/prod/1558718/e7fa12dc-6862-11e9-88e9-0a2
 901a6873e/1996637/80075e6e-ec3d-11e9-ad8a-121a26c497fa/file/w-2019-10-16-a
 genda.pdf
END:VEVENT
END:VCALENDAR
