BEGIN:VCALENDAR
VERSION:2.0
PRODID:SchoolNow
CALSCALE:GREGORIAN
BEGIN:VEVENT
UID:8457c2dc-d0d2-11e9-b233-0a946f7031a2
DTSTAMP:20191115T210641Z
SUMMARY:Winnacunnet School Board Meeting
URL;VALUE=URI:https://www.sau21.nh.gov/calendar/2085638/winnacunnet-school-
 board-meeting
DTSTART:20191120T233000Z
DTEND:20191121T003000Z
ATTACH;FILENAME=w-2019-11-20-agenda.pdf;FMTTYPE=application/pdf:https://cam
 pussuite-storage.s3.amazonaws.com/prod/1558718/e7fa12dc-6862-11e9-88e9-0a2
 901a6873e/2016461/8dbb3458-07eb-11ea-a7e6-1227da5accef/file/w-2019-11-20-a
 genda.pdf
END:VEVENT
END:VCALENDAR
