BEGIN:VCALENDAR
VERSION:2.0
PRODID:SchoolNow
CALSCALE:GREGORIAN
BEGIN:VEVENT
UID:99db1cc6-d0d2-11e9-aa3e-0a946f7031a2
DTSTAMP:20191213T205000Z
SUMMARY:Winnacunnet School Board Meeting
URL;VALUE=URI:https://www.sau21.nh.gov/calendar/2085639/winnacunnet-school-
 board-meeting
DTSTART:20191218T233000Z
DTEND:20191219T003000Z
ATTACH;FILENAME=w-2019-12-18-agenda.pdf;FMTTYPE=application/pdf:https://cam
 pussuite-storage.s3.amazonaws.com/prod/1558718/e7fa12dc-6862-11e9-88e9-0a2
 901a6873e/2027260/b7b68fe6-1de9-11ea-b19f-0a03ce5d1029/file/w-2019-12-18-a
 genda.pdf
END:VEVENT
END:VCALENDAR
