BEGIN:VCALENDAR
VERSION:2.0
PRODID:SchoolNow
CALSCALE:GREGORIAN
BEGIN:VEVENT
UID:e07337cc-d0d2-11e9-bc8b-0aaf1deb3e84
DTSTAMP:20200131T163944Z
SUMMARY:Winnacunnet School Board Meeting
URL;VALUE=URI:https://www.sau21.nh.gov/calendar/2085641/winnacunnet-school-
 board-meeting
DTSTART:20200206T230000Z
DTEND:20200207T000000Z
ATTACH;FILENAME=2020-2-6 WSB Agenda.pdf;FMTTYPE=application/pdf:https://cam
 pussuite-storage.s3.amazonaws.com/prod/1558718/e7fa12dc-6862-11e9-88e9-0a2
 901a6873e/2045885/d1ff58d6-4447-11ea-9d48-1218aee8ddc9/file/2020-2-6 WSB A
 genda.pdf
END:VEVENT
END:VCALENDAR
