BEGIN:VCALENDAR
VERSION:2.0
PRODID:SchoolNow
CALSCALE:GREGORIAN
BEGIN:VEVENT
UID:38434cfa-d667-11e9-adcb-129d5302f79e
DTSTAMP:20190913T204402Z
SUMMARY:Winnacunnet Budget Committee Meeting
URL;VALUE=URI:https://www.sau21.nh.gov/calendar/2093710/winnacunnet-budget-
 committee-meeting
DTSTART:20190918T213000Z
DTEND:20190918T220000Z
END:VEVENT
END:VCALENDAR
