BEGIN:VCALENDAR
VERSION:2.0
PRODID:SchoolNow
CALSCALE:GREGORIAN
BEGIN:VEVENT
UID:7ee3330a-d667-11e9-88df-129d5302f79e
DTSTAMP:20190913T204601Z
SUMMARY:Winnacunnet School Board Work Session with Budget Committee
URL;VALUE=URI:https://www.sau21.nh.gov/calendar/2093711/winnacunnet-school-
 board-work-session-with-budget-committee
DTSTART:20190918T220000Z
DTEND:20190918T223000Z
ATTACH;FILENAME=w-2019-09-16-agenda-ws.pdf;FMTTYPE=application/pdf:https://
 campussuite-storage.s3.amazonaws.com/prod/1558718/e7fa12dc-6862-11e9-88e9-
 0a2901a6873e/1983430/65cbd994-d667-11e9-be75-129d5302f79e/file/w-2019-09-1
 6-agenda-ws.pdf
END:VEVENT
END:VCALENDAR
