BEGIN:VCALENDAR
VERSION:2.0
PRODID:SchoolNow
CALSCALE:GREGORIAN
BEGIN:VEVENT
UID:50982ab4-d8b0-11e9-a186-0aaeeb31adfe
DTSTAMP:20190916T192326Z
SUMMARY:EARLY RELEASE at ALL SAU 21 Schools
URL;VALUE=URI:https://www.sau21.nh.gov/calendar/2095348/early-release-at-al
 l-sau-21-schools
DTSTART;VALUE=DATE:20191002
DTEND;VALUE=DATE:20191003
END:VEVENT
END:VCALENDAR
