BEGIN:VCALENDAR
VERSION:2.0
PRODID:SchoolNow
CALSCALE:GREGORIAN
BEGIN:VEVENT
UID:6c893de4-d8b0-11e9-9153-0aaeeb31adfe
DTSTAMP:20190916T192517Z
SUMMARY:Columbus Day - NO SCHOOL
URL;VALUE=URI:https://www.sau21.nh.gov/calendar/2095349/columbus-day-no-sch
 ool
DTSTART;VALUE=DATE:20191014
DTEND;VALUE=DATE:20191015
END:VEVENT
END:VCALENDAR
