BEGIN:VCALENDAR
VERSION:2.0
PRODID:SchoolNow
CALSCALE:GREGORIAN
BEGIN:VEVENT
UID:83b4b958-d8b0-11e9-ada4-0aaeeb31adfe
DTSTAMP:20190916T192457Z
SUMMARY:Veterans' Day - NO SCHOOL
URL;VALUE=URI:https://www.sau21.nh.gov/calendar/2095350/veterans-day-no-sch
 ool
DTSTART;VALUE=DATE:20191111
DTEND;VALUE=DATE:20191112
END:VEVENT
END:VCALENDAR
