BEGIN:VCALENDAR
VERSION:2.0
PRODID:SchoolNow
CALSCALE:GREGORIAN
BEGIN:VEVENT
UID:abff83d4-d8b0-11e9-a0c0-0aaeeb31adfe
DTSTAMP:20190916T192231Z
SUMMARY:NO SCHOOL - Teacher Professional Development
URL;VALUE=URI:https://www.sau21.nh.gov/calendar/2095351/no-school-teacher-p
 rofessional-development
DTSTART;VALUE=DATE:20191120
DTEND;VALUE=DATE:20191121
END:VEVENT
END:VCALENDAR
