BEGIN:VCALENDAR
VERSION:2.0
PRODID:SchoolNow
CALSCALE:GREGORIAN
BEGIN:VEVENT
UID:e6f2ba98-d8b4-11e9-83f4-129042713564
DTSTAMP:20190916T192139Z
SUMMARY:EARLY RELEASE at ALL SAU 21 Schools
URL;VALUE=URI:https://www.sau21.nh.gov/calendar/2096089/early-release-at-al
 l-sau-21-schools
DTSTART;VALUE=DATE:20190911
DTEND;VALUE=DATE:20190912
END:VEVENT
END:VCALENDAR
