BEGIN:VCALENDAR
VERSION:2.0
PRODID:SchoolNow
CALSCALE:GREGORIAN
BEGIN:VEVENT
UID:40c0936a-d8b5-11e9-ab6c-129042713564
DTSTAMP:20191011T160442Z
SUMMARY:Operations Committee
URL;VALUE=URI:https://www.sau21.nh.gov/calendar/2096114/sau-21-operations-c
 ommittee
DTSTART:20191015T213000Z
DTEND:20191015T223000Z
ATTACH;FILENAME=oc-2019-10-15-agenda.pdf;FMTTYPE=application/pdf:https://ca
 mpussuite-storage.s3.amazonaws.com/prod/1558718/e7fa12dc-6862-11e9-88e9-0a
 2901a6873e/1996649/c2757198-ec40-11e9-9cd6-0a9d0c435686/file/oc-2019-10-15
 -agenda.pdf
END:VEVENT
END:VCALENDAR
