BEGIN:VCALENDAR
VERSION:2.0
PRODID:SchoolNow
CALSCALE:GREGORIAN
BEGIN:VEVENT
UID:670ebb5a-d8b5-11e9-b2c8-129042713564
DTSTAMP:20191029T153739Z
SUMMARY:Joint Board Meeting
LOCATION:Lecture Hall\, Winnacunnet High School
URL;VALUE=URI:https://www.sau21.nh.gov/calendar/2096116/joint-board-meeting
DTSTART:20191022T223000Z
DTEND:20191022T233000Z
ATTACH;FILENAME=jb-2019-10-22-agenda.pdf;FMTTYPE=application/pdf:https://ca
 mpussuite-storage.s3.amazonaws.com/prod/1558718/e7fa12dc-6862-11e9-88e9-0a
 2901a6873e/2005679/e8dc3b2a-fa49-11e9-8427-12672b04e482/file/jb-2019-10-22
 -agenda.pdf
END:VEVENT
END:VCALENDAR
