BEGIN:VCALENDAR
VERSION:2.0
PRODID:SchoolNow
CALSCALE:GREGORIAN
BEGIN:VEVENT
UID:a4132e8c-d8b5-11e9-861c-129042713564
DTSTAMP:20191029T153435Z
SUMMARY:Joint Board Policy Committee
LOCATION:Principal's Conference Room\, Winnacunnet High School
URL;VALUE=URI:https://www.sau21.nh.gov/calendar/2096118/joint-board-policy-
 committee
DTSTART:20191029T203000Z
DTEND:20191029T220000Z
ATTACH;FILENAME=jbpc-2019-10-29-agenda.pdf;FMTTYPE=application/pdf:https://
 campussuite-storage.s3.amazonaws.com/prod/1558718/e7fa12dc-6862-11e9-88e9-
 0a2901a6873e/2005681/0f4326d4-fa4a-11e9-9374-12672b04e482/file/jbpc-2019-1
 0-29-agenda.pdf
END:VEVENT
END:VCALENDAR
