BEGIN:VCALENDAR
VERSION:2.0
PRODID:SchoolNow
CALSCALE:GREGORIAN
BEGIN:VEVENT
UID:be513d60-d8b6-11e9-b179-129042713564
DTSTAMP:20190916T192613Z
SUMMARY:Thanksgiving Recess - NO SCHOOL
URL;VALUE=URI:https://www.sau21.nh.gov/calendar/2096120/no-school-thanksgiv
 ing-recess
DTSTART;VALUE=DATE:20191127
DTEND;VALUE=DATE:20191130
END:VEVENT
END:VCALENDAR
