BEGIN:VCALENDAR
VERSION:2.0
PRODID:SchoolNow
CALSCALE:GREGORIAN
BEGIN:VEVENT
UID:f5a1537c-d8b6-11e9-a580-129042713564
DTSTAMP:20191029T153336Z
SUMMARY:Joint Board Public Hearing & Meeting
LOCATION:Lecture Hall\, Winnacunnet High School
URL;VALUE=URI:https://www.sau21.nh.gov/calendar/2096121/joint-board-public-
 hearing-meeting
DTSTART:20191105T230000Z
DTEND:20191106T003000Z
ATTACH;FILENAME=jb-2019-11-05-agenda.pdf;FMTTYPE=application/pdf:https://ca
 mpussuite-storage.s3.amazonaws.com/prod/1558718/e7fa12dc-6862-11e9-88e9-0a
 2901a6873e/2005682/24be2b08-fa4a-11e9-bea0-12672b04e482/file/jb-2019-11-05
 -agenda.pdf
END:VEVENT
END:VCALENDAR
