BEGIN:VCALENDAR
VERSION:2.0
PRODID:SchoolNow
CALSCALE:GREGORIAN
BEGIN:VEVENT
UID:8e8f08f4-d8b7-11e9-9c01-121f9dc736ee
DTSTAMP:20190916T192409Z
SUMMARY:Labor Day - NO SCHOOL
URL;VALUE=URI:https://www.sau21.nh.gov/calendar/2096129/labor-day-no-school
DTSTART;VALUE=DATE:20190902
DTEND;VALUE=DATE:20190903
END:VEVENT
END:VCALENDAR
