BEGIN:VCALENDAR
VERSION:2.0
PRODID:SchoolNow
CALSCALE:GREGORIAN
BEGIN:VEVENT
UID:01ff94fc-d8b8-11e9-9101-121f9dc736ee
DTSTAMP:20190916T192723Z
SUMMARY:EARLY RELEASE - ALL Schools in SAU 21
URL;VALUE=URI:https://www.sau21.nh.gov/calendar/2096133/early-release-all-s
 chools-in-sau-21
DTSTART;VALUE=DATE:20191220
DTEND;VALUE=DATE:20191221
END:VEVENT
END:VCALENDAR
