BEGIN:VCALENDAR
VERSION:2.0
PRODID:SchoolNow
CALSCALE:GREGORIAN
BEGIN:VEVENT
UID:1f8e4f04-d8b8-11e9-84a7-121f9dc736ee
DTSTAMP:20190916T192812Z
SUMMARY:Holiday Vacation - NO SCHOOL
URL;VALUE=URI:https://www.sau21.nh.gov/calendar/2096135/holiday-vacation-no
 -school
DTSTART;VALUE=DATE:20191223
DTEND;VALUE=DATE:20191228
END:VEVENT
END:VCALENDAR
