BEGIN:VCALENDAR
VERSION:2.0
PRODID:SchoolNow
CALSCALE:GREGORIAN
BEGIN:VEVENT
UID:38deb3c2-d8b8-11e9-8b64-121f9dc736ee
DTSTAMP:20190916T192855Z
SUMMARY:Holiday Vacation - NO SCHOOL
URL;VALUE=URI:https://www.sau21.nh.gov/calendar/2096136/holiday-vacation-no
 -school
DTSTART;VALUE=DATE:20191230
DTEND;VALUE=DATE:20200102
END:VEVENT
END:VCALENDAR
